BEGIN:VCALENDAR
VERSION:2.0
PRODID:-//Plone.org//NONSGML plone.app.event//EN
X-WR-TIMEZONE:Europe/Rome
BEGIN:VEVENT
SUMMARY:Tra il dire e il salvare c'è di mezzo il donare (Amelia Colosimo)
DTSTART;VALUE=DATE-TIME:20130526T100000Z
DTEND;VALUE=DATE-TIME:20130526T120000Z
DTSTAMP;VALUE=DATE-TIME:20260421T044948Z
UID:876edb6dd608be393b65a656ad3e19a5@127.0.0.1:8095
CATEGORIES:Premiazione
CREATED;VALUE=DATE-TIME:20130521T134431Z
DESCRIPTION:1° Premio Regionale Liceo Ginnasio Statale "G. Cevolani" - Ce
 nto (FE). \n\n\n
LAST-MODIFIED;VALUE=DATE-TIME:20130904T090101Z
LOCATION:Bologna - Giardini Margherita 
URL:https://www.ausl.bologna.it/eventi/archivio/auslevent.2013-05-21.48823
 41573
END:VEVENT
END:VCALENDAR
