BEGIN:VCALENDAR
VERSION:2.0
PRODID:-//Plone.org//NONSGML plone.app.event//EN
X-WR-TIMEZONE:Europe/Rome
BEGIN:VEVENT
SUMMARY:"Il complesso di Telemaco" 
DTSTART;VALUE=DATE-TIME:20130522T160000Z
DTEND;VALUE=DATE-TIME:20130522T173000Z
DTSTAMP;VALUE=DATE-TIME:20260421T045030Z
UID:52a419c97c3a642e4e20d1974d1065d1@127.0.0.1:8095
CATEGORIES:Presentazione libro
CONTACT:051/262977
CREATED;VALUE=DATE-TIME:20130520T130250Z
DESCRIPTION:Genitori e figli dopo il tramonto del padre 
LAST-MODIFIED;VALUE=DATE-TIME:20130904T083743Z
LOCATION:Libreria delle Moline\, via Delle Moline\, 3/A - Bologna 
URL:https://www.ausl.bologna.it/eventi/archivio/auslevent.2013-05-20.73719
 28957
END:VEVENT
END:VCALENDAR
