BEGIN:VCALENDAR
VERSION:2.0
PRODID:-//Plone.org//NONSGML plone.app.event//EN
X-WR-TIMEZONE:Europe/Rome
BEGIN:VEVENT
SUMMARY:Esposizione ad agenti cancerogeni nei luoghi di lavoro ed Epidemio
 logia dei tumori professionali 
DTSTART;VALUE=DATE-TIME:20130613T064500Z
DTEND;VALUE=DATE-TIME:20130613T153000Z
DTSTAMP;VALUE=DATE-TIME:20260421T044907Z
UID:314fb50e3e24f315437f1de4cc805690@127.0.0.1:8095
CATEGORIES:corso di formazione
CONTACT:06/94181463\, r.dml.corsi@inail.it
CREATED;VALUE=DATE-TIME:20130520T132246Z
DESCRIPTION:INAIL - Dipartimento Medicina del Lavoro
LAST-MODIFIED;VALUE=DATE-TIME:20130904T083744Z
LOCATION:INAIL Auditorium P.le G. Pastore\, 6 - ROMA
URL:https://www.ausl.bologna.it/eventi/archivio/auslevent.2013-05-20.38204
 87067
END:VEVENT
END:VCALENDAR
