BEGIN:VCALENDAR
VERSION:2.0
PRODID:-//Plone.org//NONSGML plone.app.event//EN
X-WR-TIMEZONE:Europe/Rome
BEGIN:VEVENT
SUMMARY:I colori dell'arcobaleno
DTSTART;VALUE=DATE-TIME:20130518T070000Z
DTEND;VALUE=DATE-TIME:20130518T110000Z
DTSTAMP;VALUE=DATE-TIME:20260421T044958Z
UID:dd39541ec254b9ec155823bbf7998a72@127.0.0.1:8095
CATEGORIES:Incontro
CREATED;VALUE=DATE-TIME:20130517T131131Z
DESCRIPTION:Le attività espressive nel lavoro di cura: l'esperienza della
  NPIA di San Lazzaro di Savena 
LAST-MODIFIED;VALUE=DATE-TIME:20130904T083740Z
LOCATION:Casa dell'Arcobaleno Via Nazionale\, 56 - Carteria di Pianoro (BO
 )
URL:https://www.ausl.bologna.it/eventi/archivio/auslevent.2013-05-17.95219
 63424
END:VEVENT
END:VCALENDAR
