BEGIN:VCALENDAR
VERSION:2.0
PRODID:-//Plone.org//NONSGML plone.app.event//EN
X-WR-TIMEZONE:Europe/Rome
BEGIN:VEVENT
SUMMARY:Strategie terapeutiche della medicina interculturale 
DTSTART;VALUE=DATE-TIME:20130524T064500Z
DTEND;VALUE=DATE-TIME:20130524T140000Z
DTSTAMP;VALUE=DATE-TIME:20260421T044958Z
UID:2f9aa37a0feb88aaa465965acd44d18d@127.0.0.1:8095
CATEGORIES:Workshop
CONTACT:039-2333098
CREATED;VALUE=DATE-TIME:20130517T132534Z
DESCRIPTION:Il malato nella società globalizzata 
LAST-MODIFIED;VALUE=DATE-TIME:20130904T083741Z
LOCATION:Sala 2 Biblioteca Giorgio R. Franci - Dipartimento di Storia Cult
 ura Civiltà - Via Zamboni\, 33 Bologna 
URL:https://www.ausl.bologna.it/eventi/archivio/auslevent.2013-05-17.88276
 23567
END:VEVENT
END:VCALENDAR
