BEGIN:VCALENDAR
VERSION:2.0
PRODID:-//Plone.org//NONSGML plone.app.event//EN
X-WR-TIMEZONE:Europe/Rome
BEGIN:VEVENT
SUMMARY:Benessere e divertimento 2013 con Datti una mossa!®  
DTSTART;VALUE=DATE-TIME:20130602T070000Z
DTEND;VALUE=DATE-TIME:20130602T180000Z
DTSTAMP;VALUE=DATE-TIME:20260421T044948Z
UID:dff007a84055d08ef41623db1c8965a4@127.0.0.1:8095
CATEGORIES:Festa
CREATED;VALUE=DATE-TIME:20130517T123349Z
DESCRIPTION:V memorial Roberto Ragazzi
LAST-MODIFIED;VALUE=DATE-TIME:20130904T083740Z
LOCATION:Bologna\, Centro Sportivo Lame
URL:https://www.ausl.bologna.it/eventi/archivio/auslevent.2013-05-17.75198
 86511
END:VEVENT
END:VCALENDAR
