BEGIN:VCALENDAR
VERSION:2.0
PRODID:-//Plone.org//NONSGML plone.app.event//EN
X-WR-TIMEZONE:Europe/Rome
BEGIN:VEVENT
SUMMARY:Prendiamoci cura del futuro dei nostri anziani. 
DTSTART;VALUE=DATE-TIME:20130518T073000Z
DTEND;VALUE=DATE-TIME:20130518T113000Z
DTSTAMP;VALUE=DATE-TIME:20260421T044948Z
UID:09515b8f5391a4732a3a5124c0e35f8a@127.0.0.1:8095
CATEGORIES:Dibattito
CREATED;VALUE=DATE-TIME:20130516T113746Z
DESCRIPTION:Dall’analisi dei bisogni e delle opportunità al welfare di 
 comunità
LAST-MODIFIED;VALUE=DATE-TIME:20130904T083739Z
LOCATION:Zola Predosa\, Centro Socioculturale Falcone - via Tosarelli 4 
URL:https://www.ausl.bologna.it/eventi/archivio/auslevent.2013-05-16.89823
 38540
END:VEVENT
END:VCALENDAR
