BEGIN:VCALENDAR
VERSION:2.0
PRODID:-//Plone.org//NONSGML plone.app.event//EN
X-WR-TIMEZONE:Europe/Rome
BEGIN:VEVENT
SUMMARY:Crevalcore un anno dopo
DTSTART;VALUE=DATE-TIME:20130518T120000Z
DTEND;VALUE=DATE-TIME:20130530T210000Z
DTSTAMP;VALUE=DATE-TIME:20260420T113334Z
UID:c9389eccd7859fb8c4e8d5edc2a47330@127.0.0.1:8095
CATEGORIES:Calendario di eventi
CONTACT:Segreteria del Sindaco\, 051/988408
CREATED;VALUE=DATE-TIME:20130516T112206Z
DESCRIPTION:Dodici giorni di incontri pubblici\, discussioni\, inaugurazio
 ni ed eventi per celebrare il primo anno di rinascita della comunità di C
 revalcore\, duramente colpita dallo sciame sismico emiliano dello scorso a
 nno. \nDodici giornate per ricordare uno spazio da ri-abitare e non diment
 icare la ricostruzione. 
LAST-MODIFIED;VALUE=DATE-TIME:20130904T083738Z
LOCATION:Crevalcore\, varie sedi - consultare il programma
URL:https://www.ausl.bologna.it/eventi/archivio/auslevent.2013-05-16.78664
 08528
END:VEVENT
END:VCALENDAR
