BEGIN:VCALENDAR
VERSION:2.0
PRODID:-//Plone.org//NONSGML plone.app.event//EN
X-WR-TIMEZONE:Europe/Rome
BEGIN:VEVENT
SUMMARY:Nascere a Bentivoglio
DTSTART;VALUE=DATE-TIME:20130521T123000Z
DTEND;VALUE=DATE-TIME:20130521T143000Z
DTSTAMP;VALUE=DATE-TIME:20260421T044958Z
UID:7dcd341ab9ae55079e0f86666e4b3db1@127.0.0.1:8095
CATEGORIES:Incontro
CONTACT:Patrizia Girotti\, patrizia.girotti@ausl.bologna.it
CREATED;VALUE=DATE-TIME:20130515T122221Z
DESCRIPTION:La presentazione del Punto Nascita alle future mamme
LAST-MODIFIED;VALUE=DATE-TIME:20130904T083737Z
LOCATION:Bentivoglio\, Ospedale consorziale
URL:https://www.ausl.bologna.it/eventi/archivio/auslevent.2013-05-15.00039
 19913
END:VEVENT
END:VCALENDAR
