BEGIN:VCALENDAR
VERSION:2.0
PRODID:-//Plone.org//NONSGML plone.app.event//EN
X-WR-TIMEZONE:Europe/Rome
BEGIN:VEVENT
SUMMARY:XV Convegno Tabagismo e Servizio Sanitario Nazionale
DTSTART;VALUE=DATE-TIME:20130531T063000Z
DTEND;VALUE=DATE-TIME:20130531T110000Z
DTSTAMP;VALUE=DATE-TIME:20260421T044958Z
UID:422891612c1df4778b72ac3cf55674d3@127.0.0.1:8095
CATEGORIES:Convegno
CREATED;VALUE=DATE-TIME:20130514T111617Z
DESCRIPTION:All'interno della Giornata mondiale senza tabacco 2013\, un in
 contro sul divieto di pubblicità\, della promozione e della sponsorizzazi
 one del tabacco.
LAST-MODIFIED;VALUE=DATE-TIME:20130904T083736Z
LOCATION:Roma\, Aula Pocchiari\, Istituto Superiore di Sanità - Viale Reg
 ina Elena\, 299
URL:https://www.ausl.bologna.it/eventi/archivio/auslevent.2013-05-14.16879
 64114
END:VEVENT
END:VCALENDAR
