BEGIN:VCALENDAR
VERSION:2.0
PRODID:-//Plone.org//NONSGML plone.app.event//EN
X-WR-TIMEZONE:Europe/Rome
BEGIN:VEVENT
SUMMARY:Percorso di educazione alimentare per celiaci
DTSTART;VALUE=DATE-TIME:20140204T150000Z
DTEND;VALUE=DATE-TIME:20140204T170000Z
DTSTAMP;VALUE=DATE-TIME:20260421T044957Z
UID:280187cd447b4d21b8d6b40d5b2a7d46@127.0.0.1:8095
CATEGORIES:corso
CONTACT:Cristina Coppini\, 051 6079685\, c.coppini@ausl.bologna.it
CREATED;VALUE=DATE-TIME:20130513T105729Z
DESCRIPTION:Prosegue l’iniziativa promossa dalla U.O. Igiene degli Alime
 nti e Nutrizione dell’Azienda Usl di Bologna di sviluppare un percorso d
 i educazione alimentare per le persone con celiachia e i loro familiari.
LAST-MODIFIED;VALUE=DATE-TIME:20140109T123649Z
LOCATION:Bologna - Sala Ottagonale\, via Gramsci 12 
URL:https://www.ausl.bologna.it/eventi/archivio/auslevent.2013-05-13.04613
 46279
END:VEVENT
END:VCALENDAR
