BEGIN:VCALENDAR
VERSION:2.0
PRODID:-//Plone.org//NONSGML plone.app.event//EN
X-WR-TIMEZONE:Europe/Rome
BEGIN:VEVENT
SUMMARY:Una nuova EPOCa per l'innovazione e la ricerca nei Servizi Sanitar
 i 
DTSTART;VALUE=DATE-TIME:20130517T073000Z
DTEND;VALUE=DATE-TIME:20130517T153000Z
DTSTAMP;VALUE=DATE-TIME:20260421T044802Z
UID:96863190bbe039673f9f06c18c9723d6@127.0.0.1:8095
CONTACT:051 5277405-7191\, eventisanita@regione.emilia-romagna.it
CREATED;VALUE=DATE-TIME:20130508T125020Z
DESCRIPTION:Convegno 
LAST-MODIFIED;VALUE=DATE-TIME:20130904T083242Z
LOCATION:Terza Torre Sala A Conferenze - Via della Fiera\, 8 Bologna
URL:https://www.ausl.bologna.it/eventi/archivio/auslevent.2013-05-08.50269
 28043
END:VEVENT
END:VCALENDAR
