BEGIN:VCALENDAR
VERSION:2.0
PRODID:-//Plone.org//NONSGML plone.app.event//EN
X-WR-TIMEZONE:Europe/Rome
BEGIN:VEVENT
SUMMARY:LE AZIENDE PUBBLICHE E IL NUOVO WELFARE 
DTSTART;VALUE=DATE-TIME:20130510T123000Z
DTEND;VALUE=DATE-TIME:20130510T153000Z
DTSTAMP;VALUE=DATE-TIME:20260421T045030Z
UID:09c4799a2b2d95dff28e1ba99dc257ec@127.0.0.1:8095
CATEGORIES:Tavola rotonda
CONTACT:Tamara Imbaglione e Luana Redalié\, 051 2195402 - 051 6201301\, l
 .redalie@aspgiovanni23.it
CREATED;VALUE=DATE-TIME:20130507T113825Z
DESCRIPTION:FIRENZE\, MILANO\, BOLOGNA: PERCORSI DI UNIFICAZIONE DELLE ASP
  A CONFRONTO
LAST-MODIFIED;VALUE=DATE-TIME:20130904T083239Z
LOCATION:Sala Biagi\, Biblioteca Sala Borsa - Piazza del Nettuno\, Bologna
URL:https://www.ausl.bologna.it/eventi/archivio/auslevent.2013-05-07.16773
 33188
END:VEVENT
END:VCALENDAR
