BEGIN:VCALENDAR
VERSION:2.0
PRODID:-//Plone.org//NONSGML plone.app.event//EN
X-WR-TIMEZONE:Europe/Rome
BEGIN:VEVENT
SUMMARY:Ospedale Maggiore\, inaugurazione dei Blocchi operatori\, della Ca
 rdiologia\, della Centrale di sterilizzazione\, della Centrale Operativa 1
 18\, della Rianimazione e Terapia Intensiva
DTSTART;VALUE=DATE-TIME:20130510T090000Z
DTEND;VALUE=DATE-TIME:20130510T110000Z
DTSTAMP;VALUE=DATE-TIME:20260421T044948Z
UID:ad236ccd0e65efa7448cef0d84ecf6aa@127.0.0.1:8095
CATEGORIES:Inaugurazione
CREATED;VALUE=DATE-TIME:20130506T112831Z
LAST-MODIFIED;VALUE=DATE-TIME:20130904T083237Z
LOCATION:Bologna\, Ospedale Maggiore\, Largo Nigrisoli 2 
URL:https://www.ausl.bologna.it/eventi/archivio/auslevent.2013-05-06.51930
 61504
END:VEVENT
END:VCALENDAR
