BEGIN:VCALENDAR
VERSION:2.0
PRODID:-//Plone.org//NONSGML plone.app.event//EN
X-WR-TIMEZONE:Europe/Rome
BEGIN:VEVENT
SUMMARY:Sanità in movimento
DTSTART;VALUE=DATE-TIME:20130614T130000Z
DTEND;VALUE=DATE-TIME:20130614T160000Z
DTSTAMP;VALUE=DATE-TIME:20260421T044957Z
UID:28c7fc8437b86cc9c86635bc782bc245@127.0.0.1:8095
CATEGORIES:Convegno
CONTACT:051/5277182 - 0544/287708-286633 
CREATED;VALUE=DATE-TIME:20130503T142554Z
DESCRIPTION:Valutazione della performance nelle cure primarieRelatore W.G.
 W. (Winke) Boerma - Relatore W.G.W. (Winke) Boerma
LAST-MODIFIED;VALUE=DATE-TIME:20130904T083236Z
LOCATION:Sede Bologna\, Villa Gandolfi Pallavicini\, via Martelli\, 22/24
URL:https://www.ausl.bologna.it/eventi/archivio/auslevent.2013-05-03.82233
 52213
END:VEVENT
END:VCALENDAR
