BEGIN:VCALENDAR
VERSION:2.0
PRODID:-//Plone.org//NONSGML plone.app.event//EN
X-WR-TIMEZONE:Europe/Rome
BEGIN:VEVENT
SUMMARY:Sotto i tigli... Tra riflessioni e buona prassi - III edizione
DTSTART;VALUE=DATE-TIME:20130529T130000Z
DTEND;VALUE=DATE-TIME:20130529T153000Z
DTSTAMP;VALUE=DATE-TIME:20260421T044948Z
UID:ef0637cc437d209ee702cab522a02e2d@127.0.0.1:8095
ATTENDEE;CN="Intervengono le autrici Maria Luisa Genta, Annalisa Guarini, 
 Antonella Brighi.";ROLE=REQ-PARTICIPANT:Intervengono le autrici Maria Luis
 a Genta, Annalisa Guarini, Antonella Brighi.
ATTENDEE;CN="Coordina Graziella Giovannini (Istituzione G.F. Minguzzi)";RO
 LE=REQ-PARTICIPANT:Coordina Graziella Giovannini (Istituzione G.F. Minguzz
 i)
CATEGORIES:Attività di promozione culturale
CONTACT:Annalina Marsili\, Istituzione “G.F. Minguzzi”\, 051.5288525\,
  annalina.marsili@provincia.bologna.it
CREATED;VALUE=DATE-TIME:20130502T102715Z
DESCRIPTION:“Cyberbullismo. Ricerche e strategie di intervento “
LAST-MODIFIED;VALUE=DATE-TIME:20130904T083232Z
LOCATION:Bologna Via Sant’Isaia\, 90 - Cortile del pozzo\, Complesso Ron
 cati
URL:https://www.ausl.bologna.it/eventi/archivio/auslevent.2013-05-02.91668
 15700
END:VEVENT
END:VCALENDAR
