BEGIN:VCALENDAR
VERSION:2.0
PRODID:-//Plone.org//NONSGML plone.app.event//EN
X-WR-TIMEZONE:Europe/Rome
BEGIN:VEVENT
SUMMARY:Sotto i tigli... Tra riflessioni e buona prassi - III edizione
DTSTART;VALUE=DATE-TIME:20130517T073000Z
DTEND;VALUE=DATE-TIME:20130517T100000Z
DTSTAMP;VALUE=DATE-TIME:20260421T044907Z
UID:2ea0340fcaa541f0848ad6f628c04c0e@127.0.0.1:8095
ATTENDEE;CN="Intervengono i curatori Mariagnese Cheli—Cosimo Ricciutello
 —Mirella Valdiserra. Saranno presenti gli autori del libro.Coordina Graz
 iella Giovannini (Istituzione G.F. Minguzzi)";ROLE=REQ-PARTICIPANT:Interve
 ngono i curatori Mariagnese Cheli—Cosimo Ricciutello—Mirella Valdiserr
 a. Saranno presenti gli autori del libro.Coordina Graziella Giovannini (Is
 tituzione G.F. Minguzzi)
CATEGORIES:Attività di promozione culturale
CONTACT:Annalina Marsili\, Istituzione “G.F. Minguzzi”\, 051.5288525\,
  annalina.marsili@provincia.bologna.it
CREATED;VALUE=DATE-TIME:20130502T095620Z
DESCRIPTION:“Maltrattamento all’infanzia.Un modello integrato di inter
 vento per i Servizi Sociali e Sanitari”
LAST-MODIFIED;VALUE=DATE-TIME:20130904T083232Z
LOCATION:Bologna Via Sant’Isaia\, 90 - Cortile del pozzo\, Complesso Ron
 cati
URL:https://www.ausl.bologna.it/eventi/archivio/auslevent.2013-05-02.66926
 42395
END:VEVENT
END:VCALENDAR
