BEGIN:VCALENDAR
VERSION:2.0
PRODID:-//Plone.org//NONSGML plone.app.event//EN
X-WR-TIMEZONE:Europe/Rome
BEGIN:VEVENT
SUMMARY:Non solo un gioco 
DTSTART;VALUE=DATE-TIME:20130503T070000Z
DTEND;VALUE=DATE-TIME:20130503T150000Z
DTSTAMP;VALUE=DATE-TIME:20260421T044908Z
UID:c793e490214951198fdd6a1063866eb3@127.0.0.1:8095
CATEGORIES:Convegno
CREATED;VALUE=DATE-TIME:20130502T144504Z
DESCRIPTION:Oltre lo sport c'è. Cittadinanza\, partecipazione\, associazi
 onismo\, diritti... \n
LAST-MODIFIED;VALUE=DATE-TIME:20130904T083235Z
LOCATION:Bologna - Parrocchia San Giovanni Bosco Via B. Maria dal Monte\, 
 14
URL:https://www.ausl.bologna.it/eventi/archivio/auslevent.2013-05-02.38559
 82925
END:VEVENT
END:VCALENDAR
