BEGIN:VCALENDAR
VERSION:2.0
PRODID:-//Plone.org//NONSGML plone.app.event//EN
X-WR-TIMEZONE:Europe/Rome
BEGIN:VEVENT
SUMMARY:Non solo un gioco 
DTSTART;VALUE=DATE-TIME:20130504T063000Z
DTEND;VALUE=DATE-TIME:20130504T110000Z
DTSTAMP;VALUE=DATE-TIME:20260421T044830Z
UID:787f06e2d40978acff0b72951c07bec1@127.0.0.1:8095
CATEGORIES:Trofeo sportivo
CREATED;VALUE=DATE-TIME:20130502T145244Z
DESCRIPTION:Super Magic Crazy Sport\n\n
LAST-MODIFIED;VALUE=DATE-TIME:20130904T083235Z
LOCATION:Casalecchio di Reno - C.S. Allende - Via Ronzani (Autobus 89\, fe
 rmata Allende)
URL:https://www.ausl.bologna.it/eventi/archivio/auslevent.2013-05-02.15774
 47146
END:VEVENT
END:VCALENDAR
