BEGIN:VCALENDAR
VERSION:2.0
PRODID:-//Plone.org//NONSGML plone.app.event//EN
X-WR-TIMEZONE:Europe/Rome
BEGIN:VEVENT
SUMMARY:Argomenti di Gastroenterologia: dalla clinica alla rete informatic
 a
DTSTART;VALUE=DATE-TIME:20130504T060000Z
DTEND;VALUE=DATE-TIME:20130504T130000Z
DTSTAMP;VALUE=DATE-TIME:20260421T044803Z
UID:d18b9cd2ea2380dcee3dc211d0fab7ee@127.0.0.1:8095
CATEGORIES:Convegno
CONTACT:I&C srl\, 051 614 4004\, chiara.cilione@iec-srl.it
CREATED;VALUE=DATE-TIME:20130429T105412Z
DESCRIPTION:X edizione del corso annuale di gastroenterologia organizzato 
 dall’Unità di Medicina Interna dell’ospedale di Bentivoglio.
LAST-MODIFIED;VALUE=DATE-TIME:20130904T083229Z
LOCATION:Bentivoglio\, Zanhotel  Centergross
URL:https://www.ausl.bologna.it/eventi/archivio/auslevent.2013-04-29.47803
 34236
END:VEVENT
END:VCALENDAR
