BEGIN:VCALENDAR
VERSION:2.0
PRODID:-//Plone.org//NONSGML plone.app.event//EN
X-WR-TIMEZONE:Europe/Rome
BEGIN:VEVENT
SUMMARY:“Save lives: clean your hands” (Salva vite: lavati le mani) 
DTSTART;VALUE=DATE-TIME:20130507T090000Z
DTEND;VALUE=DATE-TIME:20130507T110000Z
DTSTAMP;VALUE=DATE-TIME:20260421T044907Z
UID:3792d7191898e357f91a586de2c74a75@127.0.0.1:8095
CATEGORIES:Convegno
CREATED;VALUE=DATE-TIME:20130429T121545Z
DESCRIPTION:Campagna mondiale della World Health Organization
LAST-MODIFIED;VALUE=DATE-TIME:20130904T083231Z
LOCATION:Bologna\, Aula Magna - Ospedale Bellaria
URL:https://www.ausl.bologna.it/eventi/archivio/auslevent.2013-04-29.29351
 08477
END:VEVENT
END:VCALENDAR
