BEGIN:VCALENDAR
VERSION:2.0
PRODID:-//Plone.org//NONSGML plone.app.event//EN
X-WR-TIMEZONE:Europe/Rome
BEGIN:VEVENT
SUMMARY:Sanità in movimento
DTSTART;VALUE=DATE-TIME:20130524T130000Z
DTEND;VALUE=DATE-TIME:20130524T160000Z
DTSTAMP;VALUE=DATE-TIME:20260421T044958Z
UID:3bd4e27cd392eef02987358c5d224825@127.0.0.1:8095
CATEGORIES:Convegno
CONTACT:051/5277182 - 0544/2877080-286633\, sanitainmovimento@regione.emil
 ia-romagna.it
CREATED;VALUE=DATE-TIME:20130424T135046Z
DESCRIPTION:L’organizzazione complessa: come la teoria della complessit
 à entra infine nella vita quotidiana\n
LAST-MODIFIED;VALUE=DATE-TIME:20130904T083228Z
LOCATION:Sede Parma 
URL:https://www.ausl.bologna.it/eventi/archivio/auslevent.2013-04-24.85228
 84707
END:VEVENT
END:VCALENDAR
