BEGIN:VCALENDAR
VERSION:2.0
PRODID:-//Plone.org//NONSGML plone.app.event//EN
X-WR-TIMEZONE:Europe/Rome
BEGIN:VEVENT
SUMMARY:Sanità in movimento 
DTSTART;VALUE=DATE-TIME:20130507T130000Z
DTEND;VALUE=DATE-TIME:20130507T160000Z
DTSTAMP;VALUE=DATE-TIME:20260421T044831Z
UID:4bf295244047a48b051a4a6d001773b9@127.0.0.1:8095
CATEGORIES:Convegno
CONTACT:051/5277182 - 0544/287708-286633
CREATED;VALUE=DATE-TIME:20130424T131715Z
DESCRIPTION:Coltiviamo talenti: politiche delle risorse umane in sanità\,
  in una prospettiva europea e internazionale\n
LAST-MODIFIED;VALUE=DATE-TIME:20130904T083226Z
LOCATION:Bologna\, Sala delle Colonne\, Corte Roncati - via Sant’Isaia\,
  90
URL:https://www.ausl.bologna.it/eventi/archivio/auslevent.2013-04-24.25409
 20094
END:VEVENT
END:VCALENDAR
