BEGIN:VCALENDAR
VERSION:2.0
PRODID:-//Plone.org//NONSGML plone.app.event//EN
X-WR-TIMEZONE:Europe/Rome
BEGIN:VEVENT
SUMMARY:Salute e malattia\, paradigma della pòlis
DTSTART;VALUE=DATE-TIME:20130522T150000Z
DTEND;VALUE=DATE-TIME:20130524T170000Z
DTSTAMP;VALUE=DATE-TIME:20260421T044814Z
UID:5a07c07d0f9025d2f61a270ab2da58dd@127.0.0.1:8095
CATEGORIES:Convegno
CONTACT:Manfredo Pace - Azienda USL Ravenna\, 0544/286957\, manfredo.pace@
 ausl.ra.it
CREATED;VALUE=DATE-TIME:20130423T090114Z
DESCRIPTION:Etica\, economia\, antropologia: un simposio internazionale di
  taglio umanistico e interdisciplinare\, sul dolore e la malattia. Vissute
  con gli altri e come Altro\, come abitanti delle diverse comunità che ab
 itiamo.
LAST-MODIFIED;VALUE=DATE-TIME:20130904T083222Z
LOCATION:Ravenna\, Teatro Dante Alighieri (Sala del Ridotto Arcangelo Core
 lli) - Via Angelo Mariani\, 2
URL:https://www.ausl.bologna.it/eventi/archivio/auslevent.2013-04-23.53604
 37145
END:VEVENT
END:VCALENDAR
