BEGIN:VCALENDAR
VERSION:2.0
PRODID:-//Plone.org//NONSGML plone.app.event//EN
X-WR-TIMEZONE:Europe/Rome
BEGIN:VEVENT
SUMMARY:Sostanze illegali: consumo socialmente integrato e riduzione del d
 anno
DTSTART;VALUE=DATE-TIME:20130607T064500Z
DTEND;VALUE=DATE-TIME:20130607T120000Z
DTSTAMP;VALUE=DATE-TIME:20260421T044958Z
UID:2063a092c4be45a53c9773404f105eab@127.0.0.1:8095
CATEGORIES:Convegno
CONTACT:Elsa Turino\, elsa.turino@ausl.bologna.it
CREATED;VALUE=DATE-TIME:20130423T123257Z
DESCRIPTION:Organizzato dall'Unità operativa Osservatorio epidemiologico 
 dipendenze\, Dipartimento salute mentale e dipendenze patologiche\, l'even
 to è compreso nel Dossier formativo dipartimentale anno 2013. Iscrizione 
 obbligatoria.
LAST-MODIFIED;VALUE=DATE-TIME:20130904T083224Z
LOCATION:Bologna\, Dipartimento Scienze dell'Educazione\, Aula Zam1 - Via 
 Zamboni 32
URL:https://www.ausl.bologna.it/eventi/archivio/auslevent.2013-04-23.05469
 23570
END:VEVENT
END:VCALENDAR
