BEGIN:VCALENDAR
VERSION:2.0
PRODID:-//Plone.org//NONSGML plone.app.event//EN
X-WR-TIMEZONE:Europe/Rome
BEGIN:VEVENT
SUMMARY:L'accompagnamento del minore nel procedimento giudiziario 
DTSTART;VALUE=DATE-TIME:20130510T063000Z
DTEND;VALUE=DATE-TIME:20130510T111500Z
DTSTAMP;VALUE=DATE-TIME:20260421T044907Z
UID:226b31afcc2328b6e3ac9c0cc8cfd91e@127.0.0.1:8095
CATEGORIES:seminario
CONTACT:051 4141611\, ilfaro@ausl.bologna.it
CREATED;VALUE=DATE-TIME:20130423T121457Z
DESCRIPTION:Progetto E dopo cosa succede?
LAST-MODIFIED;VALUE=DATE-TIME:20130904T083223Z
LOCATION:Bologna - Aula Giorgio Prodi P.zza S. Giovanni in Monte\, 2 
URL:https://www.ausl.bologna.it/eventi/archivio/auslevent.2013-04-23.03998
 92603
END:VEVENT
END:VCALENDAR
