BEGIN:VCALENDAR
VERSION:2.0
PRODID:-//Plone.org//NONSGML plone.app.event//EN
X-WR-TIMEZONE:Europe/Rome
BEGIN:VEVENT
SUMMARY:Il sostegno alla fragilità e la prevenzione della non autosuffici
 enza 
DTSTART;VALUE=DATE-TIME:20130508T070000Z
DTEND;VALUE=DATE-TIME:20130508T113000Z
DTSTAMP;VALUE=DATE-TIME:20260421T044907Z
UID:eeba59d07f53a79126188da936e6a129@127.0.0.1:8095
CATEGORIES:seminario
CREATED;VALUE=DATE-TIME:20130418T131744Z
DESCRIPTION:Il progetto metropolitano e l'esperienza della città di Bolog
 na 
LAST-MODIFIED;VALUE=DATE-TIME:20130904T083735Z
LOCATION:Ospedale Maggiore\, Aula Donatori di sangue - Bologna 
URL:https://www.ausl.bologna.it/eventi/archivio/auslevent.2013-04-18.62764
 78944
END:VEVENT
END:VCALENDAR
