BEGIN:VCALENDAR
VERSION:2.0
PRODID:-//Plone.org//NONSGML plone.app.event//EN
X-WR-TIMEZONE:Europe/Rome
BEGIN:VEVENT
SUMMARY:L’accreditamento dei servizi socio-sanitari in Emilia Romagna. Q
 uattro anni dopo
DTSTART;VALUE=DATE-TIME:20130513T070000Z
DTEND;VALUE=DATE-TIME:20130513T113000Z
DTSTAMP;VALUE=DATE-TIME:20260421T044830Z
UID:15434eab56b392c5d264278e853f1226@127.0.0.1:8095
CATEGORIES:seminario
CONTACT:intergruppoacccreditamento@gmail.com
CREATED;VALUE=DATE-TIME:20130418T103529Z
DESCRIPTION:Un seminario di confronto fra i diversi attori del sistema int
 egrato dei servizi socio sanitari della Regione
LAST-MODIFIED;VALUE=DATE-TIME:20130904T085512Z
LOCATION:Bologna\, Unipol Banca\, Piazza della Costituzione\, 2
URL:https://www.ausl.bologna.it/eventi/archivio/auslevent.2013-04-18.32586
 00720
END:VEVENT
END:VCALENDAR
