BEGIN:VCALENDAR
VERSION:2.0
PRODID:-//Plone.org//NONSGML plone.app.event//EN
X-WR-TIMEZONE:Europe/Rome
BEGIN:VEVENT
SUMMARY:OSTETRICIA: E.B.M. E OLTRE - Le prove da sole  non prendono decisi
 oni 
DTSTART;VALUE=DATE-TIME:20130420T060000Z
DTEND;VALUE=DATE-TIME:20130420T160000Z
DTSTAMP;VALUE=DATE-TIME:20260421T044907Z
UID:4f62e12d613935cfef4d7506c184c09b@127.0.0.1:8095
CATEGORIES:congresso
CONTACT:338 2993200 (dal lunedì al venerdì dalle 9 alle 12)
CREATED;VALUE=DATE-TIME:20130416T121512Z
DESCRIPTION:Congresso nazionale Associazione scientifica ANDRIA\n\n
LAST-MODIFIED;VALUE=DATE-TIME:20130904T085511Z
LOCATION:Bologna - Ospedale Maggiore\, Aula Magna - Largo Nigrisoli\, 2 
URL:https://www.ausl.bologna.it/eventi/archivio/auslevent.2013-04-16.25360
 68830
END:VEVENT
END:VCALENDAR
