BEGIN:VCALENDAR
VERSION:2.0
PRODID:-//Plone.org//NONSGML plone.app.event//EN
X-WR-TIMEZONE:Europe/Rome
BEGIN:VEVENT
SUMMARY:La casa residenza "Saliceto" apre le porte alla città
DTSTART;VALUE=DATE-TIME:20130406T080000Z
DTEND;VALUE=DATE-TIME:20130406T100000Z
DTSTAMP;VALUE=DATE-TIME:20260421T044948Z
UID:bcb6928b2de4fa15616a3d5c62ce74e5@127.0.0.1:8095
CATEGORIES:Presentazione
CONTACT:051 6201301
CREATED;VALUE=DATE-TIME:20130408T103053Z
DESCRIPTION:Insieme per un servizio pubblico della comunità Bolognese
LAST-MODIFIED;VALUE=DATE-TIME:20130904T085508Z
LOCATION:Bologna - via saliceto\, 71
URL:https://www.ausl.bologna.it/eventi/archivio/auslevent.2013-04-08.88478
 85469
END:VEVENT
END:VCALENDAR
