BEGIN:VCALENDAR
VERSION:2.0
PRODID:-//Plone.org//NONSGML plone.app.event//EN
X-WR-TIMEZONE:Europe/Rome
BEGIN:VEVENT
SUMMARY:La paura di essere brutti
DTSTART;VALUE=DATE-TIME:20130412T160000Z
DTEND;VALUE=DATE-TIME:20130412T170000Z
DTSTAMP;VALUE=DATE-TIME:20260421T044831Z
UID:8077d92fc10f82f58624c99187d13bff@127.0.0.1:8095
CATEGORIES:Presentazione libro
CREATED;VALUE=DATE-TIME:20130408T134414Z
DESCRIPTION:Gli adolescenti e il corpo 
LAST-MODIFIED;VALUE=DATE-TIME:20130904T085510Z
LOCATION:Libreria Feltrinelli - Piazza Ravegnana\, 1 - Bologna 
URL:https://www.ausl.bologna.it/eventi/archivio/auslevent.2013-04-08.48923
 22079
END:VEVENT
END:VCALENDAR
