BEGIN:VCALENDAR
VERSION:2.0
PRODID:-//Plone.org//NONSGML plone.app.event//EN
X-WR-TIMEZONE:Europe/Rome
BEGIN:VEVENT
SUMMARY:Trauma e Immigrazione
DTSTART;VALUE=DATE-TIME:20130408T063000Z
DTEND;VALUE=DATE-TIME:20130408T113000Z
DTSTAMP;VALUE=DATE-TIME:20260421T044831Z
UID:b0f70618851867c2a1ebbc24de2ef5b5@127.0.0.1:8095
CATEGORIES:seminario
CREATED;VALUE=DATE-TIME:20130408T105757Z
DESCRIPTION:Strategie di salute globale 
LAST-MODIFIED;VALUE=DATE-TIME:20130904T085509Z
LOCATION:Bologna - Casa del Donatore di Sangue\, Aula Cesari - Via dell'Os
 pedale\, 20 
URL:https://www.ausl.bologna.it/eventi/archivio/auslevent.2013-04-08.24001
 37953
END:VEVENT
END:VCALENDAR
