BEGIN:VCALENDAR
VERSION:2.0
PRODID:-//Plone.org//NONSGML plone.app.event//EN
X-WR-TIMEZONE:Europe/Rome
BEGIN:VEVENT
SUMMARY:Va dove ti porta il trenino ...sui binari della solidarietà.
DTSTART;VALUE=DATE-TIME:20130413T080000Z
DTEND;VALUE=DATE-TIME:20130414T160000Z
DTSTAMP;VALUE=DATE-TIME:20260421T044831Z
UID:2f22b97db22b2e9f479917ca6a4cef40@127.0.0.1:8095
CATEGORIES:mostra
CREATED;VALUE=DATE-TIME:20130405T112805Z
DESCRIPTION:Trenini\, plastici di paesaggi e diorami a favore di FEDERIDE\
 , Associazione per gli adolescenti con linfoma di Hodgkin. Col patrocinio 
 della Provincia di Bologna e le opere di ASN\, Amici della Scala 1:160.
LAST-MODIFIED;VALUE=DATE-TIME:20130904T085508Z
LOCATION:Bologna\, Ex Ospedale dei Bastardini 41 - Via d'Azeglio 
URL:https://www.ausl.bologna.it/eventi/archivio/auslevent.2013-04-05.75833
 11334
END:VEVENT
END:VCALENDAR
