BEGIN:VCALENDAR
VERSION:2.0
PRODID:-//Plone.org//NONSGML plone.app.event//EN
X-WR-TIMEZONE:Europe/Rome
BEGIN:VEVENT
SUMMARY:Meeting annuale di Gestione dei Sistemi RIS – PACS
DTSTART;VALUE=DATE-TIME:20130508T070000Z
DTEND;VALUE=DATE-TIME:20130508T160000Z
DTSTAMP;VALUE=DATE-TIME:20260421T044907Z
UID:2c21ab718e5e2ce960ee30166dce926d@127.0.0.1:8095
CATEGORIES:Aggiornamento
CREATED;VALUE=DATE-TIME:20130402T080501Z
DESCRIPTION:La terza edizione dell'evento formativo organizzato dal Colleg
 io professionale dei tecnici sanitari di radiologia di Bologna\, aperto a 
 diverse figure professionali.
LAST-MODIFIED;VALUE=DATE-TIME:20130904T085507Z
LOCATION:Bologna\, Aula Murri del Polo didattico Murri - Via Massarenti 9
URL:https://www.ausl.bologna.it/eventi/archivio/auslevent.2013-04-02.49684
 22320
END:VEVENT
END:VCALENDAR
