BEGIN:VCALENDAR
VERSION:2.0
PRODID:-//Plone.org//NONSGML plone.app.event//EN
X-WR-TIMEZONE:Europe/Rome
BEGIN:VEVENT
SUMMARY:La Medicina di Genere: una nuova prospettiva di salute
DTSTART;VALUE=DATE-TIME:20130416T063000Z
DTEND;VALUE=DATE-TIME:20130416T160000Z
DTSTAMP;VALUE=DATE-TIME:20260421T044815Z
UID:cb717b3e063372199ae6a86ce0ae7699@127.0.0.1:8095
ATTENDEE;CN="Corso rivolto a Infermieri professionali";ROLE=REQ-PARTICIPAN
 T:Corso rivolto a Infermieri professionali
CATEGORIES:corso di formazione
CONTACT:STUDIO G - Strada maggiore\,15 - 40125 Bologna Italy\, info@studio
 -g.com
CREATED;VALUE=DATE-TIME:20130402T072538Z
LAST-MODIFIED;VALUE=DATE-TIME:20130904T085506Z
LOCATION:Palazzo Segni Masetti - Strada Maggiore 23 - Bologna
URL:https://www.ausl.bologna.it/eventi/archivio/auslevent.2013-04-02.31069
 89603
END:VEVENT
END:VCALENDAR
