BEGIN:VCALENDAR
VERSION:2.0
PRODID:-//Plone.org//NONSGML plone.app.event//EN
X-WR-TIMEZONE:Europe/Rome
BEGIN:VEVENT
SUMMARY:Miseria e nobiltà di Nanni Garella - Tratto da Eduardo Scarpetta\
 , regia di Nanni Garella
DTSTART;VALUE=DATE-TIME:20130403T220000Z
DTEND;VALUE=DATE-TIME:20130403T220000Z
DTSTAMP;VALUE=DATE-TIME:20260421T044948Z
UID:65d3aa4eb36e8c1b25ea4c32bfcdb2f8@127.0.0.1:8095
CATEGORIES:Spettacolo teatrale
CONTACT:Biglietteria Teatro \, 051 2910910\, biglietteria@arenadelsole.it
CREATED;VALUE=DATE-TIME:20130326T121624Z
DESCRIPTION:Progetto "Arte e Salute nell'Arena del Sole" 
LAST-MODIFIED;VALUE=DATE-TIME:20130904T085504Z
LOCATION:Teatro Arena del Sole - Via Indipendenza\, 44 Bologna 
URL:https://www.ausl.bologna.it/eventi/archivio/auslevent.2013-03-26.27614
 36505
END:VEVENT
END:VCALENDAR
