BEGIN:VCALENDAR
VERSION:2.0
PRODID:-//Plone.org//NONSGML plone.app.event//EN
X-WR-TIMEZONE:Europe/Rome
BEGIN:VEVENT
SUMMARY:L'intervento sul paziente giovane con Disturbi del Comportamento A
 limentare
DTSTART;VALUE=DATE-TIME:20130419T063000Z
DTEND;VALUE=DATE-TIME:20130419T163000Z
DTSTAMP;VALUE=DATE-TIME:20260421T044948Z
UID:d197bea2f905301175a2e8cb6906a702@127.0.0.1:8095
CATEGORIES:Convegno
CREATED;VALUE=DATE-TIME:20130325T135514Z
DESCRIPTION:Il modello di un day hospital dedicato alla "lunga adolescenza
 " (18-24 anni) in Ospedale 
LAST-MODIFIED;VALUE=DATE-TIME:20130904T085503Z
LOCATION:Aula Murri Padiglione 25 (I° piano) Azienda S.Orsola-Malpighi - 
 Via Massarenti\, 11 Bologna 
URL:https://www.ausl.bologna.it/eventi/archivio/auslevent.2013-03-25.26876
 73627
END:VEVENT
END:VCALENDAR
