BEGIN:VCALENDAR
VERSION:2.0
PRODID:-//Plone.org//NONSGML plone.app.event//EN
X-WR-TIMEZONE:Europe/Rome
BEGIN:VEVENT
SUMMARY:Anziani\, imprenditori della qualità della vita. Insieme si può 
 fare
DTSTART;VALUE=DATE-TIME:20130413T123000Z
DTEND;VALUE=DATE-TIME:20130413T153000Z
DTSTAMP;VALUE=DATE-TIME:20260421T044958Z
UID:eaa81817990f107f5a528c8fa908691f@127.0.0.1:8095
CATEGORIES:Convegno
CREATED;VALUE=DATE-TIME:20130322T135606Z
DESCRIPTION:Convegno e laboratori aperti a tutti
LAST-MODIFIED;VALUE=DATE-TIME:20130904T085502Z
LOCATION:Centro Sociale Antonio Montanari - Via di Saliceto\, 3/21 - Bolog
 na 
URL:https://www.ausl.bologna.it/eventi/archivio/auslevent.2013-03-22.16270
 65123
END:VEVENT
END:VCALENDAR
