BEGIN:VCALENDAR
VERSION:2.0
PRODID:-//Plone.org//NONSGML plone.app.event//EN
X-WR-TIMEZONE:Europe/Rome
BEGIN:VEVENT
SUMMARY:Sanità in movimento
DTSTART;VALUE=DATE-TIME:20130318T133000Z
DTEND;VALUE=DATE-TIME:20130318T170000Z
DTSTAMP;VALUE=DATE-TIME:20260421T044958Z
UID:d99dcd883db1dd2ca2925a9457c978f7@127.0.0.1:8095
ATTENDEE;CN="Relatori: Michele Vianello e Alberto Cottica";ROLE=REQ-PARTIC
 IPANT:Relatori: Michele Vianello e Alberto Cottica
ATTENDEE;CN="Discussant: Elisabetta Tola";ROLE=REQ-PARTICIPANT:Discussant:
  Elisabetta Tola
CATEGORIES:Convegno
CONTACT:051 5277182 - 0544 287708 / 286633\, sanitainmovimento@regione.emi
 lia-romagna.it
CREATED;VALUE=DATE-TIME:20130311T110849Z
DESCRIPTION:La Regione Emilia-Romagna promuove un ciclo di incontri sulle 
 tematiche emergenti nell’area sanitaria e sociale attraverso un confront
 o con i protagonisti della scena nazionale e internazionale
LAST-MODIFIED;VALUE=DATE-TIME:20130904T082947Z
LOCATION:Pontecchio Marconi\, via dei Celestini 1
URL:https://www.ausl.bologna.it/eventi/archivio/auslevent.2013-03-11.83072
 45003
END:VEVENT
END:VCALENDAR
