BEGIN:VCALENDAR
VERSION:2.0
PRODID:-//Plone.org//NONSGML plone.app.event//EN
X-WR-TIMEZONE:Europe/Rome
BEGIN:VEVENT
SUMMARY:Convegno Celiachia
DTSTART;VALUE=DATE-TIME:20130318T080000Z
DTEND;VALUE=DATE-TIME:20130318T170000Z
DTSTAMP;VALUE=DATE-TIME:20260421T044947Z
UID:50bc3b2396e1cf63ab8cb32658ee5aeb@127.0.0.1:8095
CATEGORIES:Convegno
CREATED;VALUE=DATE-TIME:20130308T100011Z
DESCRIPTION:Essere celiaci in Emilia-Romagna: attualità e prospettive
LAST-MODIFIED;VALUE=DATE-TIME:20130904T082946Z
URL:https://www.ausl.bologna.it/eventi/archivio/auslevent.2013-03-08.56181
 89209
END:VEVENT
END:VCALENDAR
