BEGIN:VCALENDAR
VERSION:2.0
PRODID:-//Plone.org//NONSGML plone.app.event//EN
X-WR-TIMEZONE:Europe/Rome
BEGIN:VEVENT
SUMMARY:Riduzione del danno: nuove sfide per inizio millennio
DTSTART;VALUE=DATE-TIME:20130422T130000Z
DTEND;VALUE=DATE-TIME:20130422T170000Z
DTSTAMP;VALUE=DATE-TIME:20260421T044907Z
UID:3136809365f17ff9d975dd1513dab7f6@127.0.0.1:8095
CATEGORIES:corso
CONTACT:Elisabetta Facchini\, 051/3172011
CREATED;VALUE=DATE-TIME:20130226T155515Z
DESCRIPTION:Attualità e problemi emergenti in tema di Riduzione del Danno
  da uso di droghe\n\n\n
LAST-MODIFIED;VALUE=DATE-TIME:20130904T082945Z
LOCATION:BOLOGNA\, Aula Magna - Ospedale Maggiore
URL:https://www.ausl.bologna.it/eventi/archivio/auslevent.2013-02-26.98861
 97952
END:VEVENT
END:VCALENDAR
