BEGIN:VCALENDAR
VERSION:2.0
PRODID:-//Plone.org//NONSGML plone.app.event//EN
X-WR-TIMEZONE:Europe/Rome
BEGIN:VEVENT
SUMMARY:Riduzione del danno: nuove sfide per inizio millennio
DTSTART;VALUE=DATE-TIME:20130408T130000Z
DTEND;VALUE=DATE-TIME:20130408T170000Z
DTSTAMP;VALUE=DATE-TIME:20260421T045030Z
UID:9849778d7efbb54f9ccd8a37f160fc53@127.0.0.1:8095
CATEGORIES:corso
CONTACT:Elisabetta Facchini \, 051/3172011
CREATED;VALUE=DATE-TIME:20130226T155127Z
DESCRIPTION:Attualità e problemi emergenti in tema di Riduzione del Danno
  da uso di droghe\n\n
LAST-MODIFIED;VALUE=DATE-TIME:20130904T082707Z
LOCATION:BOLOGNA\, Aula Magna - Ospedale Maggiore
URL:https://www.ausl.bologna.it/eventi/archivio/auslevent.2013-02-26.76139
 56133
END:VEVENT
END:VCALENDAR
