BEGIN:VCALENDAR
VERSION:2.0
PRODID:-//Plone.org//NONSGML plone.app.event//EN
X-WR-TIMEZONE:Europe/Rome
BEGIN:VEVENT
SUMMARY:Riduzione del danno: nuove sfide per inizio millennio
DTSTART;VALUE=DATE-TIME:20130304T140000Z
DTEND;VALUE=DATE-TIME:20130304T180000Z
DTSTAMP;VALUE=DATE-TIME:20260421T044907Z
UID:ff8101e5c9305fe59a051e2267e5d5d3@127.0.0.1:8095
CONTACT:Elisabetta Facchini \, 051/3172011
CREATED;VALUE=DATE-TIME:20130226T153716Z
DESCRIPTION:Attualità e problemi emergenti in tema di Riduzione del Danno
  da uso di droghe\n\n\n
LAST-MODIFIED;VALUE=DATE-TIME:20130904T082705Z
LOCATION:BOLOGNA\, Aula Magna - Ospedale Maggiore
URL:https://www.ausl.bologna.it/eventi/archivio/auslevent.2013-02-26.71888
 66435
END:VEVENT
END:VCALENDAR
