BEGIN:VCALENDAR
VERSION:2.0
PRODID:-//Plone.org//NONSGML plone.app.event//EN
X-WR-TIMEZONE:Europe/Rome
BEGIN:VEVENT
SUMMARY:Riduzione del danno: nuove sfide per inizio millennio 
DTSTART;VALUE=DATE-TIME:20130318T140000Z
DTEND;VALUE=DATE-TIME:20130318T180000Z
DTSTAMP;VALUE=DATE-TIME:20260421T045030Z
UID:25a24cb48d8ad29bc9da0a42ea3204be@127.0.0.1:8095
CATEGORIES:corso
CONTACT:Elisabetta Facchini \, 051/3172011
CREATED;VALUE=DATE-TIME:20130226T154735Z
DESCRIPTION:Attualità e problemi emergenti in tema di Riduzione del Danno
  da uso di droghe
LAST-MODIFIED;VALUE=DATE-TIME:20130904T082706Z
LOCATION:BOLOGNA\, Aula Magna - Ospedale Maggiore
URL:https://www.ausl.bologna.it/eventi/archivio/auslevent.2013-02-26.35210
 76660
END:VEVENT
END:VCALENDAR
