BEGIN:VCALENDAR
VERSION:2.0
PRODID:-//Plone.org//NONSGML plone.app.event//EN
X-WR-TIMEZONE:Europe/Rome
BEGIN:VEVENT
SUMMARY:Sonnolenza\, lavoro e sicurezza sulle strade
DTSTART;VALUE=DATE-TIME:20130322T073000Z
DTEND;VALUE=DATE-TIME:20130322T170000Z
DTSTAMP;VALUE=DATE-TIME:20260421T044948Z
UID:b3aadeed6db7edbf475caf919d36c7ec@127.0.0.1:8095
ATTENDEE;CN="Professionisti che si occupano di Medicina del Lavoro, Medici
 na Legale,Neurologia,Igiene e Sanità Pubblica.";ROLE=REQ-PARTICIPANT:Prof
 essionisti che si occupano di Medicina del Lavoro, Medicina Legale,Neurolo
 gia,Igiene e Sanità Pubblica.
ATTENDEE;CN="La partecipazione al Convegno è limitata a 200 persone";ROLE
 =REQ-PARTICIPANT:La partecipazione al Convegno è limitata a 200 persone
CATEGORIES:Convegno
CONTACT:MOMEDA Eventi - Via San Felice\, 38 - 40122 Bologna\, f.montanari@
 momedaeventi.com
CREATED;VALUE=DATE-TIME:20130222T141822Z
DESCRIPTION:Medicina e Industria a confronto per il miglioramento delle st
 rategie di prevenzione. L'evento è dedicato alla memoria del Prof. Pasqua
 le Montagna illustre clinico e scienziato\, Professore di Neurologia dell'
  Università di Bologna il cui esempio e insegnamento resteranno nel cuore
  e nella memoria di quanti hanno avuto il privilegio di conoscerLo e lavor
 are con Lui
LAST-MODIFIED;VALUE=DATE-TIME:20130904T082703Z
LOCATION:Savoia Hotel Regency Via del Pilastro\, 2 I - 40127 Bologna Italy
URL:https://www.ausl.bologna.it/eventi/archivio/auslevent.2013-02-22.58774
 41406
END:VEVENT
END:VCALENDAR
