BEGIN:VCALENDAR
VERSION:2.0
PRODID:-//Plone.org//NONSGML plone.app.event//EN
X-WR-TIMEZONE:Europe/Rome
BEGIN:VEVENT
SUMMARY:L’assistenza infermieristica e la risposta ai bisogni di salute:
  quali sfide oggi\, quali sfide domani?
DTSTART;VALUE=DATE-TIME:20130418T060000Z
DTEND;VALUE=DATE-TIME:20130418T160000Z
DTSTAMP;VALUE=DATE-TIME:20260421T025728Z
UID:693f29461d8ae6960344c34092bf68c1@127.0.0.1:8095
CATEGORIES:seminario
CONTACT:T.M.T. Srl\, 0258012822\, congress@tmtworld.it
CREATED;VALUE=DATE-TIME:20130221T075713Z
DESCRIPTION:Seminario introduttivo all’attività di ricerca dell’Accad
 emia Scienze Infermieristiche
LAST-MODIFIED;VALUE=DATE-TIME:20130904T082700Z
LOCATION:Fondazione IRCCS Istituto Nazionale dei tumori\, Aula Magna Via G
 . Venezian 1 – 20133 Milano
URL:https://www.ausl.bologna.it/eventi/archivio/auslevent.2013-02-21.16805
 07361
END:VEVENT
END:VCALENDAR
