BEGIN:VCALENDAR
VERSION:2.0
PRODID:-//Plone.org//NONSGML plone.app.event//EN
X-WR-TIMEZONE:Europe/Rome
BEGIN:VEVENT
SUMMARY:Alcool e sostanze stupefacenti alla guida: protocolli medico-legal
 i 
DTSTART;VALUE=DATE-TIME:20130212T140000Z
DTEND;VALUE=DATE-TIME:20130212T160000Z
DTSTAMP;VALUE=DATE-TIME:20260421T025728Z
UID:98f903b81f2ae56b6fb4025b8640297d@127.0.0.1:8095
CREATED;VALUE=DATE-TIME:20130212T114445Z
DESCRIPTION:Seminario - Ingresso libero 
LAST-MODIFIED;VALUE=DATE-TIME:20130904T082704Z
LOCATION:Sede di Medicina Legale\, Aula B (via Irnerio\, 49 - Bologna)
URL:https://www.ausl.bologna.it/eventi/archivio/auslevent.2013-02-12.80025
 41156
END:VEVENT
END:VCALENDAR
