BEGIN:VCALENDAR
VERSION:2.0
PRODID:-//Plone.org//NONSGML plone.app.event//EN
X-WR-TIMEZONE:Europe/Rome
BEGIN:VEVENT
SUMMARY:Trauma: Update and Organization 8^ Edizione 
DTSTART;VALUE=DATE-TIME:20130214T130000Z
DTEND;VALUE=DATE-TIME:20130216T150000Z
DTSTAMP;VALUE=DATE-TIME:20260421T025722Z
UID:16f98a5476a670d072350223f817634f@127.0.0.1:8095
CATEGORIES:corso
CONTACT:tel. +39 051 230385\, info@noemacongressi.it
CREATED;VALUE=DATE-TIME:20130208T150147Z
DESCRIPTION:Programma preliminare 
LAST-MODIFIED;VALUE=DATE-TIME:20130904T082240Z
LOCATION:B4 Bologna Tower Hotel - Viale Lenin\, 43 Bologna
URL:https://www.ausl.bologna.it/eventi/archivio/auslevent.2013-02-08.84328
 03748
END:VEVENT
END:VCALENDAR
