BEGIN:VCALENDAR
VERSION:2.0
PRODID:-//Plone.org//NONSGML plone.app.event//EN
X-WR-TIMEZONE:Europe/Rome
BEGIN:VEVENT
SUMMARY:"Una fiaba per i nonni...e viceversa" al cioccolato
DTSTART;VALUE=DATE-TIME:20130214T140000Z
DTEND;VALUE=DATE-TIME:20130214T154000Z
DTSTAMP;VALUE=DATE-TIME:20260420T074949Z
UID:b79db8b14bfc2144a602f0b106c9a679@127.0.0.1:8095
CATEGORIES:Presentazione
CREATED;VALUE=DATE-TIME:20130207T160230Z
DESCRIPTION:Con la speranza di coltivare attraverso il gioco la capacità 
 di "preoccupazione responsabile" (D. Winnicott)\n
LAST-MODIFIED;VALUE=DATE-TIME:20130904T082238Z
LOCATION:Sala Silentium Vicolo Bolognetti\, 2 Bologna
URL:https://www.ausl.bologna.it/eventi/archivio/auslevent.2013-02-07.16095
 36090
END:VEVENT
END:VCALENDAR
