BEGIN:VCALENDAR
VERSION:2.0
PRODID:-//Plone.org//NONSGML plone.app.event//EN
X-WR-TIMEZONE:Europe/Rome
BEGIN:VEVENT
SUMMARY:Ministero della Salute - III Giornata nazionale degli Stati Vegeta
 tivi
DTSTART;VALUE=DATE-TIME:20130208T081500Z
DTEND;VALUE=DATE-TIME:20130208T103000Z
DTSTAMP;VALUE=DATE-TIME:20260421T025900Z
UID:0b92ebcc24e80d223116c1d648e4a078@127.0.0.1:8095
CREATED;VALUE=DATE-TIME:20130205T121434Z
DESCRIPTION:Stati vegetativi e di minima coscienza in Italia: verso una nu
 ova governance
LAST-MODIFIED;VALUE=DATE-TIME:20130904T082236Z
LOCATION:Roma Auditorium del Ministero della Salute - Lungotevere\, Ripa 1
URL:https://www.ausl.bologna.it/eventi/archivio/auslevent.2013-02-05.20258
 50191
END:VEVENT
END:VCALENDAR
